BEGIN:VCALENDAR
VERSION:2.0
PRODID:-//wp-events-plugin.com//6.6.2//EN
TZID:Asia/Kolkata
X-WR-TIMEZONE:Asia/Kolkata
BEGIN:VEVENT
UID:1020@map-india.org
DTSTART;TZID=Asia/Kolkata:20250927T180000
DTEND;TZID=Asia/Kolkata:20250927T220000
DTSTAMP:20250926T041615Z
URL:https://map-india.org/map-events/y2k-rewind/
SUMMARY:Y2K REWIND
DESCRIPTION:Join us as we unveil Pulse Vol 5: Soundscapes—our latest expl
 oration into how sound\, music\, and silence weave through our lives and i
 dentities. This captivating issue features diverse voices expressing their
  sonic experiences through short films\, poetry\, photography\, and more.\
 n\nCome Dressed as a Musical Memory from the 2000s! Transform yourself int
 o a moment when music moved you. Channel the iconic imagery of a beloved a
 lbum cover\, embody the colorful energy of a Bollywood dance number\, or b
 ring to life that unforgettable childhood jingle that still plays in your 
 head. We want to see how personal musical connections inspire your creativ
 e expression.\n\n&nbsp\;
ATTACH;FMTTYPE=image/jpeg:https://map-india.org/wp-content/uploads/2025/09
 /Website-cover-images-new-7.png
END:VEVENT
BEGIN:VTIMEZONE
TZID:Asia/Kolkata
X-LIC-LOCATION:Asia/Kolkata
BEGIN:STANDARD
DTSTART:20240927T180000
TZOFFSETFROM:+0530
TZOFFSETTO:+0530
TZNAME:IST
END:STANDARD
END:VTIMEZONE
END:VCALENDAR