BEGIN:VCALENDAR
VERSION:2.0
PRODID:-//wp-events-plugin.com//6.6.2//EN
TZID:Asia/Kolkata
X-WR-TIMEZONE:Asia/Kolkata
BEGIN:VEVENT
UID:1021@map-india.org
DTSTART;TZID=Asia/Kolkata:20251004T113000
DTEND;TZID=Asia/Kolkata:20251005T143000
DTSTAMP:20250919T051131Z
URL:https://map-india.org/map-events/write-from-art-write-from-story/
SUMMARY:Write from Art\, Write from Story
DESCRIPTION:Explore the multifaceted world of artist and writer Ram Kumar t
 hrough a unique creative writing workshop\, in conjunction with our exhibi
 tion Shape of a Thought:Letters from Ram Kumar  - inviting observation\, 
 reflection\, and profound emotional resonance.\n\nThis workshop draws insp
 iration from two powerful sources within Ram Kumar's creative universe. Pa
 rticipants will engage with his abstract and cityscape paintings on displa
 y\, letting their emotional depth spark creative expression\, while also e
 xploring his short stories—available in translation within the gallery
 —with their unflinching social criticism and bold narrative voice.\n\nOv
 er two days\, Out of Print founder and editor Indira Chandrasekhar will gu
 ide participants through exercises that deepen artistic observation and li
 terary craft\, creating a dialogue between visual and written expression.
ATTACH;FMTTYPE=image/jpeg:https://map-india.org/wp-content/uploads/2025/09
 /Website-cover-images-new-3.png
END:VEVENT
BEGIN:VTIMEZONE
TZID:Asia/Kolkata
X-LIC-LOCATION:Asia/Kolkata
BEGIN:STANDARD
DTSTART:20241004T113000
TZOFFSETFROM:+0530
TZOFFSETTO:+0530
TZNAME:IST
END:STANDARD
END:VTIMEZONE
END:VCALENDAR