BEGIN:VCALENDAR
VERSION:2.0
PRODID:-//wp-events-plugin.com//6.6.2//EN
TZID:Asia/Kolkata
X-WR-TIMEZONE:Asia/Kolkata
BEGIN:VEVENT
UID:899@map-india.org
DTSTART;TZID=Asia/Kolkata:20250607T140000
DTEND;TZID=Asia/Kolkata:20250607T163000
DTSTAMP:20250602T131918Z
URL:https://map-india.org/map-events/world-quizzing-championship/
SUMMARY:World Quizzing Championship
DESCRIPTION:Every year the International Quizzing Association (IQA) search 
 for who will be crowned the World Quizzing Champion!\nRun at venues all ov
 er the world with thousands of global participants\, come over to MAP for 
 the Bengaluru edition! This  240-question quiz for individuals event is o
 pen to everyone and\, by taking part in a live event\, you can earn Quiz R
 ankings Points. Join us to earn a chance at being the World Quizzing Champ
 ion!\n\nRegistration fee: ₹300/participant to be paid online (G Pay/ Pho
 ne Pe/ Pay Tm/ Account transfer)\n\nGPay number - +91 9495258436 or UPI- 
 9495258436@ybl\n\nThe proctor is Mahendra Balu +91 9495258436 -- send scre
 enshot of payment to him for registration confirmation\, and also contact 
 for any queries.\n\nPlease note: The deadline for registration is 5:00 PM 
 on June 6 - no on-the-spot registrations will be accepted.
ATTACH;FMTTYPE=image/jpeg:https://map-india.org/wp-content/uploads/2025/06
 /Untitled-design-20.png
END:VEVENT
BEGIN:VTIMEZONE
TZID:Asia/Kolkata
X-LIC-LOCATION:Asia/Kolkata
BEGIN:STANDARD
DTSTART:20240607T140000
TZOFFSETFROM:+0530
TZOFFSETTO:+0530
TZNAME:IST
END:STANDARD
END:VTIMEZONE
END:VCALENDAR