BEGIN:VCALENDAR
VERSION:2.0
PRODID:-//wp-events-plugin.com//6.6.2//EN
TZID:Asia/Kolkata
X-WR-TIMEZONE:Asia/Kolkata
BEGIN:VEVENT
UID:1022@map-india.org
DTSTART;TZID=Asia/Kolkata:20251012T160000
DTEND;TZID=Asia/Kolkata:20251012T180000
DTSTAMP:20251007T061529Z
URL:https://map-india.org/map-events/who-has-got-your-back/
SUMMARY:Who Has Got Your Back?
DESCRIPTION:Step into the enchanting world of mythical beings with this spe
 cial trivia session inspired by our exhibition 'In Celestial Company'. Dis
 cover the fascinating stories behind divine companions like Garuda\, Moosh
 ika\, Airavata\, and the many other fantastical creatures that journey alo
 ngside gods and goddesses.\n\nThis isn't your typical trivia night. The qu
 estions are designed to be accessible and engaging\, with clues and hints 
 that help you piece together the answers. You don't need to be a mythology
  scholar—just bring your curiosity and a problem-solving spirit!\n\nThis
  event is part of the Family Day.
ATTACH;FMTTYPE=image/jpeg:https://map-india.org/wp-content/uploads/2025/09
 /Website-cover-images-new-4.png
END:VEVENT
BEGIN:VTIMEZONE
TZID:Asia/Kolkata
X-LIC-LOCATION:Asia/Kolkata
BEGIN:STANDARD
DTSTART:20241012T160000
TZOFFSETFROM:+0530
TZOFFSETTO:+0530
TZNAME:IST
END:STANDARD
END:VTIMEZONE
END:VCALENDAR