BEGIN:VCALENDAR
VERSION:2.0
PRODID:-//wp-events-plugin.com//6.6.2//EN
TZID:Asia/Kolkata
X-WR-TIMEZONE:Asia/Kolkata
BEGIN:VEVENT
UID:1035@map-india.org
DTSTART;TZID=Asia/Kolkata:20251012T150000
DTEND;TZID=Asia/Kolkata:20251012T160000
DTSTAMP:20251007T061654Z
URL:https://map-india.org/map-events/wheel-of-feelings/
SUMMARY:Wheel of Feelings
DESCRIPTION:Ever wondered what Blue feels\, or Red might say? Step into a w
 orld where art meets emotions\, and allow colours to tell you their storie
 s. \n\nJoin us for an engaging event where participants will be gently gu
 ided by a set of prompts and introduced to the book When The Crayons Quit\
 , allowing them to personally connect with different colours using emotion
 s. This will be followed by a guided walk of MAP’s ongoing exhibition Sh
 ape of a Thought: Letters from Ram Kumar to seek inspirations from the use
  of colours in the artworks on display\, before creating an artwork of the
 ir own!\n\nThis event is a part of Family Day.
ATTACH;FMTTYPE=image/jpeg:https://map-india.org/wp-content/uploads/2025/09
 /DSC09453-1-e1759128755566.jpg
END:VEVENT
BEGIN:VTIMEZONE
TZID:Asia/Kolkata
X-LIC-LOCATION:Asia/Kolkata
BEGIN:STANDARD
DTSTART:20241012T150000
TZOFFSETFROM:+0530
TZOFFSETTO:+0530
TZNAME:IST
END:STANDARD
END:VTIMEZONE
END:VCALENDAR