BEGIN:VCALENDAR
VERSION:2.0
PRODID:-//wp-events-plugin.com//6.6.2//EN
TZID:Asia/Kolkata
X-WR-TIMEZONE:Asia/Kolkata
BEGIN:VEVENT
UID:500@map-india.org
DTSTART;TZID=Asia/Kolkata:20240608T110000
DTEND;TZID=Asia/Kolkata:20240608T123000
DTSTAMP:20240604T150240Z
URL:https://map-india.org/map-events/whats-in-a-label/
SUMMARY:What's in a Label?
DESCRIPTION:Most times when we see an artwork at a museum\, we look to its 
 label to know more about it. Artwork labels are a critical part of museum 
 exhibits — they can frame perceptions\, offer perspectives\, challenge a
 ssumptions\, and provide explanations. Museum professionals dedicate a lar
 ge amount of time discussing labels and studying what effects they have on
  visitor behaviour.\n\nLed by MAP's Jayati Srivastava\, this session will 
 begin with a guided walk of the ongoing exhibition\, Outside-In: Meera Muk
 herjee and Jaidev Baghel. This will be followed by an activity where parti
 cipants will be split into groups\, and they choose an object at the exhib
 ition to collaboratively come up with an alternate label for. The final pa
 rt of the workshop will focus on group discussions on the labels created\,
  insights gleaned\, and explore questions like\, "What story will a visito
 r leave with after they read a museum label?"\n\nThis workshop is free and
  open to those who are 18 years and above. 
ATTACH;FMTTYPE=image/jpeg:https://map-india.org/wp-content/uploads/2024/06
 /Website-Image-1440-x-810-18.png
LOCATION:Axis Bank Gallery and Citi Gallery\, Museum of Art & Photography\,
  22 Kasturba Road\, Bengaluru\, Karnataka\, 560001\, India
X-APPLE-STRUCTURED-LOCATION;VALUE=URI;X-ADDRESS=22 Kasturba Road\, Bengalur
 u\, Karnataka\, 560001\, India;X-APPLE-RADIUS=100;X-TITLE=Axis Bank Galler
 y and Citi Gallery\, Museum of Art & Photography:geo:0,0
END:VEVENT
BEGIN:VTIMEZONE
TZID:Asia/Kolkata
X-LIC-LOCATION:Asia/Kolkata
BEGIN:STANDARD
DTSTART:20230609T110000
TZOFFSETFROM:+0530
TZOFFSETTO:+0530
TZNAME:IST
END:STANDARD
END:VTIMEZONE
END:VCALENDAR