BEGIN:VCALENDAR
VERSION:2.0
PRODID:-//wp-events-plugin.com//6.6.2//EN
TZID:Asia/Kolkata
X-WR-TIMEZONE:Asia/Kolkata
BEGIN:VEVENT
UID:485@map-india.org
DTSTART;TZID=Asia/Kolkata:20240525T160000
DTEND;TZID=Asia/Kolkata:20240525T170000
DTSTAMP:20240512T072828Z
URL:https://map-india.org/map-events/what-happens-when-an-object-comes-to-
 the-museum/
SUMMARY:What Happens When an Object Comes to the Museum?
DESCRIPTION:Printed Textile Fragment\, Unknown\, late 19th century\, United
  Kingdom. Gujarat\, India\, L. 70 x W. 50 cm\, TXT.00661\n\nWelcome back t
 o the 'Museum Engagement' series featuring Rucha Vibhute\, Senior Archivis
 t from the Collections Department at MAP! Join us for a deep dive into mus
 eum collections and the intriguing journey objects take when they become p
 art of a museum's archive.\n\nIn this session\, Rucha will discuss collect
 ions management\, including acquisition processes\, and documentation\, of
 fering insights into bringing objects into a museum's collection.\n\nFollo
 wing the discussion\, participate in a hands-on activity. Bring a precious
  object you consider valuable. Exchange objects with other participants an
 d fill out an object acquisition worksheet\, reflecting on your chosen art
 efact's significance and potential impact.\n\nAs the session concludes\, R
 ucha and the participants will share their experiences and learnings\, fos
 tering meaningful dialogue.\n\nDon't miss this chance to unravel the myste
 ries of museum collections and explore the power of objects to inspire and
  connect us. Reserve your spot today and join us on this enriching journey
 !
ATTACH;FMTTYPE=image/jpeg:https://map-india.org/wp-content/uploads/2024/05
 /873aba9b-dd61-44d9-a20f-bc77fafdcc69.jpeg
LOCATION:HDFC Ltd Learning Centre\, HDFC Ltd Learning Centre\, Lower Ground
  Floor\, MAP\, Bengaluru\, India
X-APPLE-STRUCTURED-LOCATION;VALUE=URI;X-ADDRESS=HDFC Ltd Learning Centre\, 
 Lower Ground Floor\, MAP\, Bengaluru\, India;X-APPLE-RADIUS=100;X-TITLE=HD
 FC Ltd Learning Centre:geo:0,0
END:VEVENT
BEGIN:VTIMEZONE
TZID:Asia/Kolkata
X-LIC-LOCATION:Asia/Kolkata
BEGIN:STANDARD
DTSTART:20230526T160000
TZOFFSETFROM:+0530
TZOFFSETTO:+0530
TZNAME:IST
END:STANDARD
END:VTIMEZONE
END:VCALENDAR