BEGIN:VCALENDAR
VERSION:2.0
PRODID:-//wp-events-plugin.com//6.6.2//EN
TZID:Asia/Kolkata
X-WR-TIMEZONE:Asia/Kolkata
BEGIN:VEVENT
UID:839@map-india.org
DTSTART;TZID=Asia/Kolkata:20250608T130000
DTEND;TZID=Asia/Kolkata:20250608T140000
DTSTAMP:20250602T093901Z
URL:https://map-india.org/map-events/we-dont-end-at-our-edges-7/
SUMMARY:We don’t end at our edges
DESCRIPTION:Join us for a guided walk of our exhibition We don’t end at o
 ur edges. It is an immersive exhibition featuring artworks by Bengaluru-ba
 sed artist\, writer and educator Ravikumar Kashi. He uses paper to ‘pain
 t’ letters from the Kannada alphabet\, transforming language itself into
  a metaphor for the permeability of human connection\, suggesting that whi
 le physical forms may fade\, the bonds we share as individuals and as a co
 mmunity remain.\n\nJoin this guided walk for a deeper understanding of the
  exhibition.\n\n&nbsp\;
ATTACH;FMTTYPE=image/jpeg:https://map-india.org/wp-content/uploads/2025/04
 /Website-cover-images-new-73.png
END:VEVENT
BEGIN:VTIMEZONE
TZID:Asia/Kolkata
X-LIC-LOCATION:Asia/Kolkata
BEGIN:STANDARD
DTSTART:20240608T130000
TZOFFSETFROM:+0530
TZOFFSETTO:+0530
TZNAME:IST
END:STANDARD
END:VTIMEZONE
END:VCALENDAR