BEGIN:VCALENDAR
VERSION:2.0
PRODID:-//wp-events-plugin.com//6.6.2//EN
TZID:Asia/Kolkata
X-WR-TIMEZONE:Asia/Kolkata
BEGIN:VEVENT
UID:1091@map-india.org
DTSTART;TZID=Asia/Kolkata:20251116T160000
DTEND;TZID=Asia/Kolkata:20251116T170000
DTSTAMP:20251115T061809Z
URL:https://map-india.org/map-events/visible-invisible-through-the-lens-of
 -divya-kandukuri/
SUMMARY:VISIBLE/INVISIBLE Through the Lens of Divya Kandukuri
DESCRIPTION:Join activist\, writer\, and mental health practitioner Divya K
 andukuri for a guided walk of the exhibition VISIBLE/INVISIBLE: Representa
 tion of Women in Art through the MAP Collection. Drawing on her work with 
 anti-caste feminism\, gender justice\, and social justice-oriented mental 
 health practice\, Divya brings a vivid lens to the ways in which art media
 tes identity\, power\, and belonging.\n\nThis event is part of the program
 ming to celebrate the last month of our first permanent exhibition\, VISI
 BLE/INVISIBLE.
ATTACH;FMTTYPE=image/jpeg:https://map-india.org/wp-content/uploads/2025/11
 /Website-cover-images-new-51.png
END:VEVENT
BEGIN:VTIMEZONE
TZID:Asia/Kolkata
X-LIC-LOCATION:Asia/Kolkata
BEGIN:STANDARD
DTSTART:20241116T160000
TZOFFSETFROM:+0530
TZOFFSETTO:+0530
TZNAME:IST
END:STANDARD
END:VTIMEZONE
END:VCALENDAR