BEGIN:VCALENDAR
VERSION:2.0
PRODID:-//wp-events-plugin.com//6.6.2//EN
TZID:Asia/Kolkata
X-WR-TIMEZONE:Asia/Kolkata
BEGIN:VEVENT
UID:1185@map-india.org
DTSTART;TZID=Asia/Kolkata:20260228T180000
DTEND;TZID=Asia/Kolkata:20260228T193000
DTSTAMP:20260226T130417Z
URL:https://map-india.org/map-events/the-reserved-compartment-an-anti-cast
 e-love-poetry-showcase/
SUMMARY:The Reserved Compartment: An Anti-Caste Love Poetry Showcase
DESCRIPTION:Step into a space where voices that were long silenced\, now ec
 ho with unapologetic power. The Reserved Compartment presents India's firs
 t Dalit-Ambedkarite anti-caste English Poetry Showcase—a bold\, communit
 y-driven revolution redefining mainstream culture through raw\, resonant v
 erses and intimate storytelling. Curated for hearts ready to listen and mi
 nds eager to shift\, this evening at MAP promises to dismantle barriers an
 d ignite conversations that linger long after the lights dim. Join us in h
 onouring resilience\, nurturing love\, reclaiming narratives\, and co-crea
 ting a more inclusive tomorrow.
ATTACH;FMTTYPE=image/jpeg:https://map-india.org/wp-content/uploads/2026/02
 /Website-Image-1440-x-810-1.png
END:VEVENT
BEGIN:VTIMEZONE
TZID:Asia/Kolkata
X-LIC-LOCATION:Asia/Kolkata
BEGIN:STANDARD
DTSTART:20250228T180000
TZOFFSETFROM:+0530
TZOFFSETTO:+0530
TZNAME:IST
END:STANDARD
END:VTIMEZONE
END:VCALENDAR