BEGIN:VCALENDAR
VERSION:2.0
PRODID:-//wp-events-plugin.com//6.6.2//EN
TZID:Asia/Kolkata
X-WR-TIMEZONE:Asia/Kolkata
BEGIN:VEVENT
UID:937@map-india.org
DTSTART;TZID=Asia/Kolkata:20250629T170000
DTEND;TZID=Asia/Kolkata:20250629T183000
DTSTAMP:20250623T112735Z
URL:https://map-india.org/map-events/the-night-we-found-magic/
SUMMARY:The Night we Found Magic
DESCRIPTION: Image credits: Jugaad Co. \n\nWe go through life oblivious to
  the wondrous things we do and the magical beings we are. The fact is ther
 e’s magic all around us and there’s magic in us. People who love\, do 
 things for us\, even if it makes them uncomfortable - even though it may b
 e challenging for them\, and vice versa. It’s the magic of love.\n\nWe g
 o through obstacles everyday\, do things that are difficult\, go to sleep\
 , wake up the next morning and we are willing to meet the day again – ev
 eryday. What we do is nothing short of magic. We run from one thing to ano
 ther everyday without really pausing and looking. If we did we’d realize
  that the world we live in is full of magic. Project Magic is an attempt t
 o stop and rediscover the magic surrounding us and in us.\n\n&nbsp\;\n\n&n
 bsp\;\n\n&nbsp\;
ATTACH;FMTTYPE=image/jpeg:https://map-india.org/wp-content/uploads/2025/06
 /1-10.png
END:VEVENT
BEGIN:VTIMEZONE
TZID:Asia/Kolkata
X-LIC-LOCATION:Asia/Kolkata
BEGIN:STANDARD
DTSTART:20240629T170000
TZOFFSETFROM:+0530
TZOFFSETTO:+0530
TZNAME:IST
END:STANDARD
END:VTIMEZONE
END:VCALENDAR