BEGIN:VCALENDAR
VERSION:2.0
PRODID:-//wp-events-plugin.com//6.6.2//EN
TZID:Asia/Kolkata
X-WR-TIMEZONE:Asia/Kolkata
BEGIN:VEVENT
UID:855@map-india.org
DTSTART;TZID=Asia/Kolkata:20250512T100000
DTEND;TZID=Asia/Kolkata:20250517T160000
DTSTAMP:20250502T063210Z
URL:https://map-india.org/map-events/the-mural-of-the-story-summer-at-map/
SUMMARY:The Mural Of The Story-Summer at MAP
DESCRIPTION:Summer holidays are here\, and are the kids already chanting "I
 'm bored?"! Get them over to MAP for an exciting summer camp filled with a
 rt\, learning and group activities facilitated by professional artists. Gi
 ve your kids a summer to remember at the museum.\n\nLearn about the art of
  mural painting\, what goes on behind the planning of a mural\, famous mur
 al artists\, etc. Facilitated by artist Deepa Juliana and inspired by the 
 works of Bhuri Bai\, kids will discover the fascinating process behind cre
 ating these large-scale artworks. Children will also get to paint their ow
 n mural at MAP! And the best part? We'll provide all the colours\, brushes
 \, and everything else they need to bring their vision to life.\n\nSo join
  this workshop and make this summer a colourful and creative one!\n\nAge g
 roup- 13-16 year olds. Registration fees is ₹1000. Number of participant
 s are limited so please register to confirm your spot.
ATTACH;FMTTYPE=image/jpeg:https://map-india.org/wp-content/uploads/2025/04
 /Website-cover-images-new-2025-04-26T142358.568.png
END:VEVENT
BEGIN:VTIMEZONE
TZID:Asia/Kolkata
X-LIC-LOCATION:Asia/Kolkata
BEGIN:STANDARD
DTSTART:20240512T100000
TZOFFSETFROM:+0530
TZOFFSETTO:+0530
TZNAME:IST
END:STANDARD
END:VTIMEZONE
END:VCALENDAR