BEGIN:VCALENDAR
VERSION:2.0
PRODID:-//wp-events-plugin.com//6.6.2//EN
TZID:Asia/Kolkata
X-WR-TIMEZONE:Asia/Kolkata
BEGIN:VEVENT
UID:1037@map-india.org
DTSTART;TZID=Asia/Kolkata:20251012T110000
DTEND;TZID=Asia/Kolkata:20251012T160000
DTSTAMP:20251012T071019Z
URL:https://map-india.org/map-events/the-great-tikat-hunt-2/
SUMMARY:The Great Tikat Hunt
DESCRIPTION:Unleash your inner detective as you embark on a thrilling quest
  to find hidden clues scattered throughout the exhibition Ticket Tika Chaa
 p. These intricately designed labels carry stories within them. This is yo
 ur chance to decode its narrative. The more clues you find\, the closer yo
 u get to victory. Are you ready to take on the challenge? Let the hunt beg
 in!\n\nThis event is part of the Family Day.
ATTACH;FMTTYPE=image/jpeg:https://map-india.org/wp-content/uploads/2025/09
 /CopyofDSC04091.jpg
END:VEVENT
BEGIN:VTIMEZONE
TZID:Asia/Kolkata
X-LIC-LOCATION:Asia/Kolkata
BEGIN:STANDARD
DTSTART:20241012T110000
TZOFFSETFROM:+0530
TZOFFSETTO:+0530
TZNAME:IST
END:STANDARD
END:VTIMEZONE
END:VCALENDAR