BEGIN:VCALENDAR
VERSION:2.0
PRODID:-//wp-events-plugin.com//6.6.2//EN
TZID:Asia/Kolkata
X-WR-TIMEZONE:Asia/Kolkata
BEGIN:VEVENT
UID:512@map-india.org
DTSTART;TZID=Asia/Kolkata:20240630T183000
DTEND;TZID=Asia/Kolkata:20240630T183000
DTSTAMP:20240625T061459Z
URL:https://map-india.org/map-events/the-earthquake/
SUMMARY:The Earthquake
DESCRIPTION:Do you ever feel alone\, even when surrounded by people? Do you
  crave connection\, even when it cracks a little? This is a performance pi
 ece that explores loneliness.\n\nThe Earthquake tells the story of two peo
 ple. In their story\, the meaning of human connection\, loneliness\, and u
 nspoken words hang heavy in the air.\n\nMathew and Sameer meet every week\
 , their meeting as familiar as the apple they share. Yet\, the unspoken wo
 rds scream louder than their spoken conversations. This story of cycles\, 
 of coming together\, drifting apart\, and all the spaces in between\, is a
 n adaptation of “Bhūmikampa – Das Erdbeben” which received the Inte
 rnationaler Kulturprojekte Grant 2023 from the Landeshauptstadt München K
 ulturreferat (City of Munich).
ATTACH;FMTTYPE=image/jpeg:https://map-india.org/wp-content/uploads/2024/06
 /Website-Image-1440-x-810-21.png
END:VEVENT
BEGIN:VTIMEZONE
TZID:Asia/Kolkata
X-LIC-LOCATION:Asia/Kolkata
BEGIN:STANDARD
DTSTART:20230701T183000
TZOFFSETFROM:+0530
TZOFFSETTO:+0530
TZNAME:IST
END:STANDARD
END:VTIMEZONE
END:VCALENDAR