BEGIN:VCALENDAR
VERSION:2.0
PRODID:-//wp-events-plugin.com//6.6.2//EN
TZID:Asia/Kolkata
X-WR-TIMEZONE:Asia/Kolkata
BEGIN:VEVENT
UID:1054@map-india.org
DTSTART;TZID=Asia/Kolkata:20251024T170000
DTEND;TZID=Asia/Kolkata:20251024T180000
DTSTAMP:20251020T052204Z
URL:https://map-india.org/map-events/the-art-of-language/
SUMMARY:The Art of Language
DESCRIPTION:Poet\, playwright\, and academic Mamta Sagar joins Arundhati Gh
 osh for an intimate conversation on poetry\, translation\, and the interse
 ctions of word and image. Exploring her creative process and her forays in
 to visual art\, Mamta reflects on how language transforms into texture\, r
 hythm\, and form\, offering audiences a rare glimpse into the evolving jou
 rney of her work.\n\nThis talk is in collaboration with Ananya Dhrishya.
ATTACH;FMTTYPE=image/jpeg:https://map-india.org/wp-content/uploads/2025/10
 /Website-cover-images-new-12.png
END:VEVENT
BEGIN:VTIMEZONE
TZID:Asia/Kolkata
X-LIC-LOCATION:Asia/Kolkata
BEGIN:STANDARD
DTSTART:20241024T170000
TZOFFSETFROM:+0530
TZOFFSETTO:+0530
TZNAME:IST
END:STANDARD
END:VTIMEZONE
END:VCALENDAR