BEGIN:VCALENDAR
VERSION:2.0
PRODID:-//wp-events-plugin.com//6.6.2//EN
TZID:Asia/Kolkata
X-WR-TIMEZONE:Asia/Kolkata
BEGIN:VEVENT
UID:1239@map-india.org
DTSTART;TZID=Asia/Kolkata:20260504T100000
DTEND;TZID=Asia/Kolkata:20260509T160000
DTSTAMP:20260406T093857Z
URL:https://map-india.org/map-events/summer-at-map-ages-8-12/
SUMMARY:Summer at MAP (Ages 8-12)
DESCRIPTION:Spend the summer inside a museum\, learning from professional a
 rtists. Our workshops for children aged 8–12 are hands-on\, creative\, a
 nd fun\, covering everything from tie-dye to ceramics and more. \n\nChoos
 e your experience\n\nRegister for individual workshops\, or go all-in with
  our combination ticket for access to every session throughout the camp.\n
 \nMay 4\n\nCeramics and Mask Making Workshop\n\nMay 5\n\nAnthotype and Cya
 notype Workshop\n\nMay 6\n\nCanvas City\n\nMay 7\n\nGrowing From Nothing: 
 A Gardening Walk Workshop\n\nMay 8\n\nNatural Tie-Dye Workshop\n\nEnd-of-c
 amp showcase\n\nThe final day is a celebration where the participants pres
 ent everything they made over the summer\, open for all families to attend
 .\n\nNote: \n\n-Please pack a lunch\, snacks\, and a water bottle for you
 r child each day.\n\n-Every registered participant receives a gift store v
 oucher of equal value\, redeemable at the MAP Gift Store. \n\n-If you're 
 a working parent\, our café space is open for you to use while your child
  is in session.\n\nThese workshops are for children between the ages of 8-
 12. If you are between the ages of 13-16 check out our programme here.\n\n
 Spots are limited. Register early to secure your place.
ATTACH;FMTTYPE=image/jpeg:https://map-india.org/wp-content/uploads/2026/04
 /Website-cover-images-new-2026-04-01T161439.576.png
END:VEVENT
BEGIN:VTIMEZONE
TZID:Asia/Kolkata
X-LIC-LOCATION:Asia/Kolkata
BEGIN:STANDARD
DTSTART:20250504T100000
TZOFFSETFROM:+0530
TZOFFSETTO:+0530
TZNAME:IST
END:STANDARD
END:VTIMEZONE
END:VCALENDAR