BEGIN:VCALENDAR
VERSION:2.0
PRODID:-//wp-events-plugin.com//6.6.2//EN
TZID:Asia/Kolkata
X-WR-TIMEZONE:Asia/Kolkata
BEGIN:VEVENT
UID:1240@map-india.org
DTSTART;TZID=Asia/Kolkata:20260511T100000
DTEND;TZID=Asia/Kolkata:20260516T160000
DTSTAMP:20260408T045758Z
URL:https://map-india.org/map-events/summer-at-map-ages-13-16/
SUMMARY:Summer at MAP (Ages 13-16)
DESCRIPTION:Five days\, a museum full of inspiration\, and a workshop unlik
 e any other\, join film maker Hansa Thapliyal for doll-making and stop-mot
 ion animation at MAP.\n\nUsing the museum as a creative playground\, parti
 cipants will work with everyday materials and scraps to build their own do
 lls\, drawing inspiration from our exhibition Beneath the Turning Sky. Alo
 ng the way\, they'll explore their ideas\, experiment with storytelling\, 
 and find their own creative voice.\n\nThrough playful stop-motion exercise
 s\, these ideas will begin to move\, building into a collaborative animate
 d film screened at the end of Summer at MAP.\n\nParticipants are required 
 to bring:\n\n-A mobile phone with a camera\n\n-A few discarded items from 
 home to add a personal touch to the creations\n\nNote: \n\n-Please pack a
  lunch\, snacks\, and a water bottle for your child each day.\n\n-Every re
 gistered participant receives a gift store voucher of equal value\, redeem
 able at the MAP Gift Store. \n\n-If you're a working parent\, our café s
 pace is open for you to use while your child is in session.\n\nThese works
 hops are for children between the ages of 13-16 If you are between the age
 s of 8-12 check out our programme here.\n\nSpots are limited. Register ear
 ly to secure your place.
ATTACH;FMTTYPE=image/jpeg:https://map-india.org/wp-content/uploads/2026/04
 /Website-cover-images-new-2026-04-02T112617.763.png
END:VEVENT
BEGIN:VTIMEZONE
TZID:Asia/Kolkata
X-LIC-LOCATION:Asia/Kolkata
BEGIN:STANDARD
DTSTART:20250511T100000
TZOFFSETFROM:+0530
TZOFFSETTO:+0530
TZNAME:IST
END:STANDARD
END:VTIMEZONE
END:VCALENDAR