BEGIN:VCALENDAR
VERSION:2.0
PRODID:-//wp-events-plugin.com//6.6.2//EN
TZID:Asia/Kolkata
X-WR-TIMEZONE:Asia/Kolkata
BEGIN:VEVENT
UID:329@map-india.org
DTSTART;TZID=Asia/Kolkata:20231027T140000
DTEND;TZID=Asia/Kolkata:20231027T173000
DTSTAMP:20231024T224800Z
URL:https://map-india.org/map-events/study-hall/
SUMMARY:Study Hall
DESCRIPTION:Untitled\, 1999\, India\, Courtesy of Deepak Puri Collection\, 
 Image: H. 34.1 cm\, W. 50.5 cm\, PHY.02208\n\nAre you tired of the same ol
 d routine of hitting the library or sipping coffee in the usual cafes? Loo
 king for a welcoming and creative space to hit the books or take a breathe
 r? We've got something exciting for you! \n\nWelcome to Study Hall\, MAP'
 s brand new series\, where we're inviting college students to dive into th
 eir studies\, meet like-minded peers\, conduct research\, or explore a han
 dpicked collection of staff recommendations from the museum’s library. E
 xperience a fresh perspective on studying outside the typical classroom se
 tting. \n\nThis isn't your typical study session — during the session\,
  we're giving you complimentary access to the captivating world of our mus
 eum galleries. It's your Golden Ticket to take a breather and engage yours
 elf in some awe inspiring art whenever you need a study break\, or some le
 isure time!\n\nThis session is open to all college students\; just remembe
 r\, advance registration is a must. So go ahead and sign up\, and don't fo
 rget to bring your college IDs along. 
ATTACH;FMTTYPE=image/jpeg:https://map-india.org/wp-content/uploads/2023/10
 /Study_Hall_1440-x-810.jpg
LOCATION:MAP Bengaluru\, 22\, Kasturba Rd\, Shanthala Nagar\, Ashok Nagar\,
  Bengaluru\, Karnataka\, 560001\, India
X-APPLE-STRUCTURED-LOCATION;VALUE=URI;X-ADDRESS=22\, Kasturba Rd\, Shanthal
 a Nagar\, Ashok Nagar\, Bengaluru\, Karnataka\, 560001\, India;X-APPLE-RAD
 IUS=100;X-TITLE=MAP Bengaluru:geo:0,0
END:VEVENT
BEGIN:VTIMEZONE
TZID:Asia/Kolkata
X-LIC-LOCATION:Asia/Kolkata
BEGIN:STANDARD
DTSTART:20221027T140000
TZOFFSETFROM:+0530
TZOFFSETTO:+0530
TZNAME:IST
END:STANDARD
END:VTIMEZONE
END:VCALENDAR