BEGIN:VCALENDAR
VERSION:2.0
PRODID:-//wp-events-plugin.com//6.6.2//EN
TZID:Asia/Kolkata
X-WR-TIMEZONE:Asia/Kolkata
BEGIN:VEVENT
UID:1028@map-india.org
DTSTART;TZID=Asia/Kolkata:20250927T180000
DTEND;TZID=Asia/Kolkata:20250927T200000
DTSTAMP:20250919T090622Z
URL:https://map-india.org/map-events/sign-or-hands-down-and-isl-trivia/
SUMMARY:Sign or Hands Down and ISL Trivia
DESCRIPTION:Think you’ve got the quickest hands in Indian Sign Language (
 ISL)? Ready to put your knowledge to the test? Join us for an unforgettabl
 e event that combines fun\, competition\, and a whole lot of learning!\n\n
 Sign or Hands Down\n\nFour teams of two will face off in an exciting serie
 s of ISL challenges\, from ISL Twisters to ISL 1-10\, each round will push
  your quick thinking and reflexes to the limit.\n\nWho will take home the 
 win? The fastest thinkers and most agile signers will reign supreme!\n\nIt
 ’s all about showing off your skills and thinking on your feet!\n\nISL T
 rivia - Kahoot!\n\nIt’s not just about speed—it’s about knowledge to
 o! Test your ISL expertise in a fast-paced Kahoot quiz where the audience 
 will race to answer questions and claim the top spot. Who will come out on
  top as the ISL trivia champion? Come join us and see it yourself.\n\nThis
  event is part of the International Week of the Deaf and a special collabo
 ration between MAP and Hear a Million (HAM).
ATTACH;FMTTYPE=image/jpeg:https://map-india.org/wp-content/uploads/2024/09
 /ISL-trivia.jpeg
END:VEVENT
BEGIN:VTIMEZONE
TZID:Asia/Kolkata
X-LIC-LOCATION:Asia/Kolkata
BEGIN:STANDARD
DTSTART:20240927T180000
TZOFFSETFROM:+0530
TZOFFSETTO:+0530
TZNAME:IST
END:STANDARD
END:VTIMEZONE
END:VCALENDAR