BEGIN:VCALENDAR
VERSION:2.0
PRODID:-//wp-events-plugin.com//6.6.2//EN
TZID:Asia/Kolkata
X-WR-TIMEZONE:Asia/Kolkata
BEGIN:VEVENT
UID:301@map-india.org
DTSTART;TZID=Asia/Kolkata:20230919T173000
DTEND;TZID=Asia/Kolkata:20230919T190000
DTSTAMP:20230914T231824Z
URL:https://map-india.org/map-events/sign-language-history-art/
SUMMARY:Sign Language: History & Art
DESCRIPTION:As part of celebrations during the International Week for Deaf 
 People (IWDP)\, we’re excited to delve into the world of sign language a
 nd its profound connections to art. \n\nIn this event\, Sunil Sahasrabudh
 e\, Founder and CEO of SIGNEX and the President of the All India Federatio
 n of the Deaf\, will take us on a journey through the fascinating history 
 of Indian Sign Language (ISL). This will be followed by Hardeep Singh\, In
 clusion Coordinator at MAP exploring the artistic dimensions of sign langu
 age and looking at how sign language has inspired and influenced artistic 
 expressions.\n\nAccess: ISL interpreters will be available\, as with MAP
 ’s other public programmes. The Mazumdar Shaw Auditorium is also equippe
 d with an audio induction loop system. For any additional access requireme
 nts\, please reach out to us at access@map-india.org. \n\nThis event has 
 been organised as part of the International Week for Deaf People. Please r
 egister your seat on the link above.
ATTACH;FMTTYPE=image/jpeg:https://map-india.org/wp-content/uploads/2023/09
 /islhistoryandart-3-scaled.jpg
END:VEVENT
BEGIN:VTIMEZONE
TZID:Asia/Kolkata
X-LIC-LOCATION:Asia/Kolkata
BEGIN:STANDARD
DTSTART:20220919T173000
TZOFFSETFROM:+0530
TZOFFSETTO:+0530
TZNAME:IST
END:STANDARD
END:VTIMEZONE
END:VCALENDAR