BEGIN:VCALENDAR
VERSION:2.0
PRODID:-//wp-events-plugin.com//6.6.2//EN
TZID:Asia/Kolkata
X-WR-TIMEZONE:Asia/Kolkata
BEGIN:VEVENT
UID:1034@map-india.org
DTSTART;TZID=Asia/Kolkata:20251012T110000
DTEND;TZID=Asia/Kolkata:20251012T120000
DTSTAMP:20251007T061846Z
URL:https://map-india.org/map-events/sign-language-101/
SUMMARY:Sign Language 101
DESCRIPTION:Learn a new language with your family! \n\nJoin our Indian Sign
  Language session for beginners hosted by Madhur Arora from the MAP team. 
 Learn words in sign language related to family\, art\, culture and more. C
 onnect with the deaf community\, learn to communicate beyond words\, and p
 ick up a valuable skill.\n\nThis event is part of the Family Day.
ATTACH;FMTTYPE=image/jpeg:https://map-india.org/wp-content/uploads/2025/09
 /IMG_5516-scaled-e1759125344774.jpg
END:VEVENT
BEGIN:VTIMEZONE
TZID:Asia/Kolkata
X-LIC-LOCATION:Asia/Kolkata
BEGIN:STANDARD
DTSTART:20241012T110000
TZOFFSETFROM:+0530
TZOFFSETTO:+0530
TZNAME:IST
END:STANDARD
END:VTIMEZONE
END:VCALENDAR