BEGIN:VCALENDAR
VERSION:2.0
PRODID:-//wp-events-plugin.com//6.6.2//EN
TZID:Asia/Kolkata
X-WR-TIMEZONE:Asia/Kolkata
BEGIN:VEVENT
UID:1044@map-india.org
DTSTART;TZID=Asia/Kolkata:20251012T113000
DTEND;TZID=Asia/Kolkata:20251012T123000
DTSTAMP:20251008T085926Z
URL:https://map-india.org/map-events/roots-and-wings-a-looroo-morning-at-m
 ap/
SUMMARY:Roots and Wings - A LooRoo Morning at MAP
DESCRIPTION:Some stories glimmer softly at the edges - of winged messengers
 \, moonlit rivers\, and gentle guardians who once walked beside the gods. 
 We found them waiting at MAP’s In Celestial Company\, and felt quietly d
 rawn into their world of myth and wonder.\n\nThis Family Day at MAP\, The 
 LooRoo Club invites you to step into that world\, where art meets story an
 d imagination grows through nature’s touch. Together\, we’ll listen\, 
 create\, and dream among celestial beings and timeless legends.\n\nThere w
 ill be colours to play with\, stories to unfold\, and a little magic waiti
 ng to be found.\n\nSome things are best discovered slowly\, and this morni
 ng will be one of them.\n\nThis event is part of Family Day.
ATTACH;FMTTYPE=image/jpeg:https://map-india.org/wp-content/uploads/2025/09
 /IMG_0155-scaled-e1759208360969.jpg
END:VEVENT
BEGIN:VTIMEZONE
TZID:Asia/Kolkata
X-LIC-LOCATION:Asia/Kolkata
BEGIN:STANDARD
DTSTART:20241012T113000
TZOFFSETFROM:+0530
TZOFFSETTO:+0530
TZNAME:IST
END:STANDARD
END:VTIMEZONE
END:VCALENDAR