BEGIN:VCALENDAR
VERSION:2.0
PRODID:-//wp-events-plugin.com//6.6.2//EN
TZID:Asia/Kolkata
X-WR-TIMEZONE:Asia/Kolkata
BEGIN:VEVENT
UID:939@map-india.org
DTSTART;TZID=Asia/Kolkata:20250705T180000
DTEND;TZID=Asia/Kolkata:20250705T200000
DTSTAMP:20250704T065123Z
URL:https://map-india.org/map-events/queer-open-mic/
SUMMARY:Queer Open Mic
DESCRIPTION:Join us for an unforgettable evening celebrating queer expressi
 on and resistance at our open mic. Step up to the mic or cheer from the au
 dience as we share stories\, music\, poetry\, comedy\, and more. Allies ar
 e invited to support from the audience\, while performing space and time i
 s reserved for LGBTQIA+ folks.\n\nConnect with new friends\, share your st
 ories and be part of a vibrant community.
ATTACH;FMTTYPE=image/jpeg:https://map-india.org/wp-content/uploads/2025/06
 /1-12.png
END:VEVENT
BEGIN:VTIMEZONE
TZID:Asia/Kolkata
X-LIC-LOCATION:Asia/Kolkata
BEGIN:STANDARD
DTSTART:20240705T180000
TZOFFSETFROM:+0530
TZOFFSETTO:+0530
TZNAME:IST
END:STANDARD
END:VTIMEZONE
END:VCALENDAR