BEGIN:VCALENDAR
VERSION:2.0
PRODID:-//wp-events-plugin.com//6.6.2//EN
TZID:Asia/Kolkata
X-WR-TIMEZONE:Asia/Kolkata
BEGIN:VEVENT
UID:1072@map-india.org
DTSTART;TZID=Asia/Kolkata:20251108T150000
DTEND;TZID=Asia/Kolkata:20251108T163000
DTSTAMP:20251104T095135Z
URL:https://map-india.org/map-events/purrfect-tales-childrens-storytelling
 -session/
SUMMARY:Purr-fect Tales: Children’s Storytelling Session
DESCRIPTION:Join us for a playful storytelling session filled with wonder a
 nd cat adventures! From jungle cats to curious kittens\, we’ll explore m
 agical tales that celebrate our feline friends. Get ready to explore a wor
 ld of stories where every cat has a tale to tell!\n\nThis programme is in 
 conjunction with the exhibition The Many Lives of the Cat
ATTACH;FMTTYPE=image/jpeg:https://map-india.org/wp-content/uploads/2025/10
 /Website-cover-images-new-27.png
END:VEVENT
BEGIN:VTIMEZONE
TZID:Asia/Kolkata
X-LIC-LOCATION:Asia/Kolkata
BEGIN:STANDARD
DTSTART:20241108T150000
TZOFFSETFROM:+0530
TZOFFSETTO:+0530
TZNAME:IST
END:STANDARD
END:VTIMEZONE
END:VCALENDAR