BEGIN:VCALENDAR
VERSION:2.0
PRODID:-//wp-events-plugin.com//6.6.2//EN
TZID:Asia/Kolkata
X-WR-TIMEZONE:Asia/Kolkata
BEGIN:VEVENT
UID:1111@map-india.org
DTSTART;TZID=Asia/Kolkata:20251220T180000
DTEND;TZID=Asia/Kolkata:20251220T210000
DTSTAMP:20251216T103924Z
URL:https://map-india.org/map-events/pulse-vol-vi-launch-food-for-thought/
SUMMARY:Pulse Vol VI Launch: Food for Thought- Community Potluck
DESCRIPTION:Textile Label for Abdool Karim Tayoob\, Late 19th–early 20th 
 century\, Chromolithograph\, POP.02594\n\nJoin us for the launch of Pulse 
 Vol. VI: Food for Thought with an evening of shared food\, stories\, and c
 onversation. This community potluck brings together artists\, chefs\, food
  writers\, researchers\, and audiences to explore food as memory\, identit
 y\, and cultural connection. Participants will move between facilitated ro
 undtable discussions\, respond to playful prompts about food memories\, an
 d collaboratively create recipes shaped by personal stories and collective
  reflection.\n\nCome with a dish to share\, meet new people\, and be part 
 of a warm\, participatory gathering that celebrates food beyond the plate.
ATTACH;FMTTYPE=image/jpeg:https://map-india.org/wp-content/uploads/2025/12
 /Website-Image-1440-x-810-26.png
END:VEVENT
BEGIN:VTIMEZONE
TZID:Asia/Kolkata
X-LIC-LOCATION:Asia/Kolkata
BEGIN:STANDARD
DTSTART:20241220T180000
TZOFFSETFROM:+0530
TZOFFSETTO:+0530
TZNAME:IST
END:STANDARD
END:VTIMEZONE
END:VCALENDAR