BEGIN:VCALENDAR
VERSION:2.0
PRODID:-//wp-events-plugin.com//6.6.2//EN
TZID:Asia/Kolkata
X-WR-TIMEZONE:Asia/Kolkata
BEGIN:VEVENT
UID:1045@map-india.org
DTSTART;TZID=Asia/Kolkata:20251005T170000
DTEND;TZID=Asia/Kolkata:20251005T183000
DTSTAMP:20251001T060605Z
URL:https://map-india.org/map-events/pottery-house/
SUMMARY:Pottery House by Mansi Bhatt
DESCRIPTION:Join us for a screening of Pottery House by Mansi Bhatt\, an ex
 perimental film that explores memory\, heritage\, and architecture through
  the remains of a demolished home on the Khodiyar Pottery Estate. In this 
 layered journey\, Mansi blurs\, overlays\, and sutures objects and images\
 , reanimating her family’s former house until its curves and textures be
 come tangible once more. The film asks: what happens when a place transfor
 ms into a state of irrecognition—or disappears altogether along with the
  boundaries that once defined it?\n\nFollowing the screening\, join archit
 ect and theorist Dr. Kaiwan Mehta for a discussion on the idea of Home\, b
 etween memory and culture. Together\, they will reflect on how architectu
 re shapes human experience and the importance of recognising built environ
 ments as vessels of history and imagination.\n\nThis programme is presente
 d in celebration of World Architecture Day\, 6 October.
ATTACH;FMTTYPE=image/jpeg:https://map-india.org/wp-content/uploads/2025/09
 /DHA_3245-1-e1759142167973.jpg
END:VEVENT
BEGIN:VTIMEZONE
TZID:Asia/Kolkata
X-LIC-LOCATION:Asia/Kolkata
BEGIN:STANDARD
DTSTART:20241005T170000
TZOFFSETFROM:+0530
TZOFFSETTO:+0530
TZNAME:IST
END:STANDARD
END:VTIMEZONE
END:VCALENDAR