BEGIN:VCALENDAR
VERSION:2.0
PRODID:-//wp-events-plugin.com//6.6.2//EN
TZID:Asia/Kolkata
X-WR-TIMEZONE:Asia/Kolkata
BEGIN:VEVENT
UID:1259@map-india.org
DTSTART;TZID=Asia/Kolkata:20260509T143000
DTEND;TZID=Asia/Kolkata:20260509T160000
DTSTAMP:20260422T044230Z
URL:https://map-india.org/map-events/plant-parenting-101/
SUMMARY:Plant Parenting 101
DESCRIPTION:A session that moves from gallery to garden.\nBegin with a guid
 ed walkthrough of Paper Gardens \, before stepping into the Living Botanic
 al installation with its gardener\, Kush Sethi. Drawing connections betwee
 n the artworks and the plants around you\, Kush will guide you through obs
 erving species\, forms\, compositions\, and the quiet details of plant ana
 tomy.\nThe session then transitions into a hands-on gardening workshop\, s
 low-paced and unhurried\, where you will practise the art of potting and c
 omposing. A gentle introduction to becoming a plant parent.\nYour complete
 d piece is yours to take home.
ATTACH;FMTTYPE=image/jpeg:https://map-india.org/wp-content/uploads/2026/04
 /Website-cover-images-new-2026-04-22T092946.933.png
END:VEVENT
BEGIN:VTIMEZONE
TZID:Asia/Kolkata
X-LIC-LOCATION:Asia/Kolkata
BEGIN:STANDARD
DTSTART:20250509T143000
TZOFFSETFROM:+0530
TZOFFSETTO:+0530
TZNAME:IST
END:STANDARD
END:VTIMEZONE
END:VCALENDAR