BEGIN:VCALENDAR
VERSION:2.0
PRODID:-//wp-events-plugin.com//6.6.2//EN
TZID:Asia/Kolkata
X-WR-TIMEZONE:Asia/Kolkata
BEGIN:VEVENT
UID:331@map-india.org
DTSTART;TZID=Asia/Kolkata:20231027T103000
DTEND;TZID=Asia/Kolkata:20231117T193000
DTSTAMP:20231019T065157Z
URL:https://map-india.org/map-events/photographs-collection-care-managemen
 t/
SUMMARY:Photographs: Collection Care & Management
DESCRIPTION:Feroz Katpitia Inspecting a Roll of Film\, 1959/1960\, Jyoti Bh
 att\, Vadodara\, DC.00691\n\nMAP is excited to announce a three week onlin
 e lecture series titled Photographs: Collection Care &amp\; Management as 
 part of the MAP-Tata Trusts Art Conservation Initiative\, from October 27t
 h - November 17th\, 2023.\n\nDesigned to introduce key concepts in photogr
 aphs collection care &amp\; management\, the series includes fifteen lectu
 res spread across three weeks\, and takes an in depth look at identificati
 on of types of photographs\, signs of deterioration\, tools for preventive
  conservation\, housing and documentation.\n\nThe workshop will be led by 
 senior art conservator Anupam Sah\, with additional sessions by experience
 d national and international faculty who specialise in photographs conserv
 ation and collection care.\nBOOK NOW\nPlease Note: Registrations open unti
 l 24 October\, 2023.\nPlease click here to view the programme schedule.
ATTACH;FMTTYPE=image/jpeg:https://map-india.org/wp-content/uploads/2023/10
 /TT-Photography-Workshop.jpg
END:VEVENT
BEGIN:VTIMEZONE
TZID:Asia/Kolkata
X-LIC-LOCATION:Asia/Kolkata
BEGIN:STANDARD
DTSTART:20221027T103000
TZOFFSETFROM:+0530
TZOFFSETTO:+0530
TZNAME:IST
END:STANDARD
END:VTIMEZONE
END:VCALENDAR