BEGIN:VCALENDAR
VERSION:2.0
PRODID:-//wp-events-plugin.com//6.6.2//EN
TZID:Asia/Kolkata
X-WR-TIMEZONE:Asia/Kolkata
BEGIN:VEVENT
UID:1076@map-india.org
DTSTART;TZID=Asia/Kolkata:20251109T113000
DTEND;TZID=Asia/Kolkata:20251109T123000
DTSTAMP:20251104T084951Z
URL:https://map-india.org/map-events/paws-sign-isl-walkthrough/
SUMMARY:Paws & Sign: ISL Walkthrough
DESCRIPTION:How has the most meme’able\, memorable\, and mischievous anim
 al known to man been represented across art history in the subcontinent? T
 hrough Kalighat paintings\, miniatures\, and popular imagery\, our latest 
 exhibition\, The Many Lives of the Cat highlights how the cat has served a
 s both muse and mirror — embodying humour\, critique\, and affection acr
 oss time.\n\nJoin us for a walkthrough of this exhibition in Indian Sign L
 anguage (ISL)\, led by Senior Exhibitions Manager\, Vineet Kajrolkar and d
 iscover how this enigmatic animal has captivated artists\, storytellers\, 
 and audiences for generations.\n\nThis programme is in conjunction with th
 e exhibition The Many Lives of the Cat
ATTACH;FMTTYPE=image/jpeg:https://map-india.org/wp-content/uploads/2025/10
 /Website-cover-images-new-31.png
END:VEVENT
BEGIN:VTIMEZONE
TZID:Asia/Kolkata
X-LIC-LOCATION:Asia/Kolkata
BEGIN:STANDARD
DTSTART:20241109T113000
TZOFFSETFROM:+0530
TZOFFSETTO:+0530
TZNAME:IST
END:STANDARD
END:VTIMEZONE
END:VCALENDAR