BEGIN:VCALENDAR
VERSION:2.0
PRODID:-//wp-events-plugin.com//6.6.2//EN
TZID:Asia/Kolkata
X-WR-TIMEZONE:Asia/Kolkata
BEGIN:VEVENT
UID:1043@map-india.org
DTSTART;TZID=Asia/Kolkata:20251012T110000
DTEND;TZID=Asia/Kolkata:20251012T160000
DTSTAMP:20251007T062010Z
URL:https://map-india.org/map-events/pause-play/
SUMMARY:Pause & Play
DESCRIPTION:Pause and Play - a family activity zone to slow down\, make\, a
 nd share time together. Hop between stations for colouring\, crafting clay
  creatures\, folding origami friends\, or playing games. Stay for ten minu
 tes or a few hours\, and take home a keepsake from your day!\n\nThis event
  is a part of the Family Day.
ATTACH;FMTTYPE=image/jpeg:https://map-india.org/wp-content/uploads/2025/09
 /DSC09616-1-e1759140580446.jpg
END:VEVENT
BEGIN:VTIMEZONE
TZID:Asia/Kolkata
X-LIC-LOCATION:Asia/Kolkata
BEGIN:STANDARD
DTSTART:20241012T110000
TZOFFSETFROM:+0530
TZOFFSETTO:+0530
TZNAME:IST
END:STANDARD
END:VTIMEZONE
END:VCALENDAR