BEGIN:VCALENDAR
VERSION:2.0
PRODID:-//wp-events-plugin.com//6.6.2//EN
TZID:Asia/Kolkata
X-WR-TIMEZONE:Asia/Kolkata
BEGIN:VEVENT
UID:1057@map-india.org
DTSTART;TZID=Asia/Kolkata:20251025T103000
DTEND;TZID=Asia/Kolkata:20251025T163000
DTSTAMP:20251020T090420Z
URL:https://map-india.org/map-events/memory-maps/
SUMMARY:Memory Maps
DESCRIPTION:Inspired by Ram Kumar’s works and the city of Bangalore\, thi
 s workshop reflects on personal and collective memories - exploring themes
  of belonging\, migration and the urban experience.\n\nLed by Arzu Mistry 
 and Aliyeh Rizvi\, co-founders of The Memory Maps Project\, this interacti
 ve workshop invites you to create your own personal Map of Memories. Follo
 wing a walkthrough of the exhibition - Ram Kumar and You\, participants wi
 ll be guided to reflect\, share\, map and draw their responses to the city
 .\n\nThis performance is in conjunction with the exhibition Shape of a Th
 ought: Letters from Ram Kumar.
ATTACH;FMTTYPE=image/jpeg:https://map-india.org/wp-content/uploads/2025/08
 /Website-cover-images-new-2.png
END:VEVENT
BEGIN:VTIMEZONE
TZID:Asia/Kolkata
X-LIC-LOCATION:Asia/Kolkata
BEGIN:STANDARD
DTSTART:20241025T103000
TZOFFSETFROM:+0530
TZOFFSETTO:+0530
TZNAME:IST
END:STANDARD
END:VTIMEZONE
END:VCALENDAR