BEGIN:VCALENDAR
VERSION:2.0
PRODID:-//wp-events-plugin.com//6.6.2//EN
TZID:Asia/Kolkata
X-WR-TIMEZONE:Asia/Kolkata
BEGIN:VEVENT
UID:1183@map-india.org
DTSTART;TZID=Asia/Kolkata:20260222T110000
DTEND;TZID=Asia/Kolkata:20260222T150000
DTSTAMP:20260216T085539Z
URL:https://map-india.org/map-events/make-map/
SUMMARY:Make @ MAP
DESCRIPTION:This spooky edition of Make @ MAP invites you to take inspirati
 on from everyday horrors to create thrilling artworks through collages.  
 \n\nMake @ MAP is a series that allows you to explore our collection in an
  engaging and hands-on manner. These sessions allow you to create and take
  home a special souvenir of your visit. It is perfect for all ages — so 
 bring your friends and family and get ready to make some art! No experienc
 e is necessary\, just a willingness to have fun and experiment with new ma
 terials.
ATTACH;FMTTYPE=image/jpeg:https://map-india.org/wp-content/uploads/2026/02
 /Website-cover-images-new-2026-02-16T115025.442.png
END:VEVENT
BEGIN:VTIMEZONE
TZID:Asia/Kolkata
X-LIC-LOCATION:Asia/Kolkata
BEGIN:STANDARD
DTSTART:20250222T110000
TZOFFSETFROM:+0530
TZOFFSETTO:+0530
TZNAME:IST
END:STANDARD
END:VTIMEZONE
END:VCALENDAR