BEGIN:VCALENDAR
VERSION:2.0
PRODID:-//wp-events-plugin.com//6.6.2//EN
TZID:Asia/Kolkata
X-WR-TIMEZONE:Asia/Kolkata
BEGIN:VEVENT
UID:926@map-india.org
DTSTART;TZID=Asia/Kolkata:20250629T110000
DTEND;TZID=Asia/Kolkata:20250629T130000
DTSTAMP:20250620T094659Z
URL:https://map-india.org/map-events/make-map-craft-your-family-story/
SUMMARY:Make @ MAP: Craft Your Family Story!
DESCRIPTION:Who do you call family? Is it your kith and kin\, a close-knit 
 group of friends\, a caring neighbour who feels like one of your own\, or 
 perhaps a loyal furry companion who’s always by your side?\n\nJoin us fo
 r a workshop that celebrates all the ways family can look and feel. In thi
 s hands-on session\, you’ll get to craft popsicle puppets inspired by th
 e people (and pets!) who make up your circle of love and care. Come\, crea
 te\, and carry home a tiny puppet family as unique and warm as your own!\n
 \nMake @ MAP is a series that allows you to explore our collection in an e
 ngaging and hands-on manner. These sessions allow you to create and take h
 ome a special souvenir of your visit. It is perfect for all ages — so br
 ing your friends and family and get ready to make some art! No experience 
 is necessary\, just a willingness to have fun and experiment with new mate
 rials.
ATTACH;FMTTYPE=image/jpeg:https://map-india.org/wp-content/uploads/2025/06
 /2-8.png
END:VEVENT
BEGIN:VTIMEZONE
TZID:Asia/Kolkata
X-LIC-LOCATION:Asia/Kolkata
BEGIN:STANDARD
DTSTART:20240629T110000
TZOFFSETFROM:+0530
TZOFFSETTO:+0530
TZNAME:IST
END:STANDARD
END:VTIMEZONE
END:VCALENDAR