BEGIN:VCALENDAR
VERSION:2.0
PRODID:-//wp-events-plugin.com//6.6.2//EN
TZID:Asia/Kolkata
X-WR-TIMEZONE:Asia/Kolkata
BEGIN:VEVENT
UID:625@map-india.org
DTSTART;TZID=Asia/Kolkata:20241124T113000
DTEND;TZID=Asia/Kolkata:20241124T160000
DTSTAMP:20241118T120550Z
URL:https://map-india.org/map-events/make-at-map-bhil/
SUMMARY:Make at MAP
DESCRIPTION:Step into the world of vibrant Indian folk art and unleash your
  creativity in this month's edition of Make at MAP! \n\nIn this drop-in se
 ssion\, we invite you to explore the captivating style of Bhil painting\, 
 a traditional art form known for its bold colours\, intricate patterns\, a
 nd expressive storytelling. Inspired by the iconic works of Bhuri Bai\, on
 e of the most renowned artists from the Bhil community\, this workshop off
 ers a unique opportunity to immerse yourself in this ancient art form whil
 e putting your own spin on it.\n\nWhether you're a seasoned artist or a fi
 rst-time painter\, our materials and guidance will help you bring to life 
 your own Bhil inspired masterpiece. Learn about the rich symbolism and cul
 tural significance behind the geometric shapes\, nature motifs\, and vibra
 nt hues that define Bhuri Bai's work. The session is designed to be relaxe
 d and open-ended\, allowing you to drop-in at your own pace\, experiment w
 ith different techniques\, and create a painting that reflects your person
 al interpretation of the Bhil tradition.
ATTACH;FMTTYPE=image/jpeg:https://map-india.org/wp-content/uploads/2024/11
 /Image-18-11-24-at-5.16 PM.jpeg
END:VEVENT
BEGIN:VTIMEZONE
TZID:Asia/Kolkata
X-LIC-LOCATION:Asia/Kolkata
BEGIN:STANDARD
DTSTART:20231125T113000
TZOFFSETFROM:+0530
TZOFFSETTO:+0530
TZNAME:IST
END:STANDARD
END:VTIMEZONE
END:VCALENDAR