BEGIN:VCALENDAR
VERSION:2.0
PRODID:-//wp-events-plugin.com//6.6.2//EN
TZID:Asia/Kolkata
X-WR-TIMEZONE:Asia/Kolkata
BEGIN:VEVENT
UID:1114@map-india.org
DTSTART;TZID=Asia/Kolkata:20251228T113000
DTEND;TZID=Asia/Kolkata:20251228T153000
DTSTAMP:20251222T052526Z
URL:https://map-india.org/map-events/make-at-map-5/
SUMMARY:Make at MAP: Create a Self-Portrait
DESCRIPTION:In this edition of Make @ MAP\, we invite you to slow down and 
 reflect on the year that has passed. What made you smile\, think\, or feel
  proud? Create a self-portrait filled with the people\, places\, and momen
 ts that stood out for you this year.\n\nMake @ MAP is a series that allows
  you to explore our collection in an engaging and hands-on manner. These s
 essions allow you to create and take home a special souvenir of your visit
 . It is perfect for all ages — so bring your friends and family and get 
 ready to make some art! No experience is necessary\, just a willingness to
  have fun and experiment with new materials.
ATTACH;FMTTYPE=image/jpeg:https://map-india.org/wp-content/uploads/2025/12
 /Website-cover-images-new-81.png
END:VEVENT
BEGIN:VTIMEZONE
TZID:Asia/Kolkata
X-LIC-LOCATION:Asia/Kolkata
BEGIN:STANDARD
DTSTART:20241228T113000
TZOFFSETFROM:+0530
TZOFFSETTO:+0530
TZNAME:IST
END:STANDARD
END:VTIMEZONE
END:VCALENDAR