BEGIN:VCALENDAR
VERSION:2.0
PRODID:-//wp-events-plugin.com//6.6.2//EN
TZID:Asia/Kolkata
X-WR-TIMEZONE:Asia/Kolkata
BEGIN:VEVENT
UID:178@map-india.org
DTSTART;TZID=Asia/Kolkata:20210605T160000
DTEND;TZID=Asia/Kolkata:20210605T170000
DTSTAMP:20230208T002336Z
URL:https://map-india.org/map-events/madhubani-art-class/
SUMMARY:Madhubani Art Class
DESCRIPTION:Learn more about this popular art form\, meet Avinash Karn who 
 is making Madhubani paintings relevant to our times\, and make a  Madhuba
 ni painting for yourself under his guidance! Madhubani is a traditional In
 dian art form made on canvas\, cloth or cow dung washed handmade paper. 
ATTACH;FMTTYPE=image/jpeg:https://map-india.org/wp-content/uploads/2022/11
 /P-10-Banaras-5x4-acrylic-on-canvas-1-scaled-1.jpg
END:VEVENT
BEGIN:VTIMEZONE
TZID:Asia/Kolkata
X-LIC-LOCATION:Asia/Kolkata
BEGIN:STANDARD
DTSTART:20200605T160000
TZOFFSETFROM:+0530
TZOFFSETTO:+0530
TZNAME:IST
END:STANDARD
END:VTIMEZONE
END:VCALENDAR