BEGIN:VCALENDAR
VERSION:2.0
PRODID:-//wp-events-plugin.com//6.6.2//EN
TZID:Asia/Kolkata
X-WR-TIMEZONE:Asia/Kolkata
BEGIN:VEVENT
UID:415@map-india.org
DTSTART;TZID=Asia/Kolkata:20240217T100000
DTEND;TZID=Asia/Kolkata:20240217T133000
DTSTAMP:20240210T153748Z
URL:https://map-india.org/map-events/logo-it-yourself/
SUMMARY:Logo It Yourself
DESCRIPTION:Ever experienced designing a logo with the help of fun handcraf
 ted games? Well\, now is the moment! \n\nJoin us for a light\, fun-packed
  logo-making session led by artist Aditi Babel. This game circle session a
 ims to activate your creative thinking. During the session\,  participant
 s would be divided into small groups where one player becomes the brand ow
 ner and the rest would be designers creating the logo. With each round\, e
 veryone gets to participate as a brand owner and a designer. Experience th
 e different aspects of brand logo making with old and new friends at this 
 engaging group session.\n\nPlease note: We will host two mediated sessions
 \, the first session from 10 am to 11:30 am and the second session from 12
  pm to 1:30 pm. Please feel free to attend either of these sessions.
ATTACH;FMTTYPE=image/jpeg:https://map-india.org/wp-content/uploads/2024/02
 /IMG_2024-02-08-110425.jpg
LOCATION:HDFC Ltd Learning Centre\, HDFC Ltd Learning Centre\, Lower Ground
  Floor\, MAP\, Bengaluru\, India
X-APPLE-STRUCTURED-LOCATION;VALUE=URI;X-ADDRESS=HDFC Ltd Learning Centre\, 
 Lower Ground Floor\, MAP\, Bengaluru\, India;X-APPLE-RADIUS=100;X-TITLE=HD
 FC Ltd Learning Centre:geo:0,0
END:VEVENT
BEGIN:VTIMEZONE
TZID:Asia/Kolkata
X-LIC-LOCATION:Asia/Kolkata
BEGIN:STANDARD
DTSTART:20230217T100000
TZOFFSETFROM:+0530
TZOFFSETTO:+0530
TZNAME:IST
END:STANDARD
END:VTIMEZONE
END:VCALENDAR