BEGIN:VCALENDAR
VERSION:2.0
PRODID:-//wp-events-plugin.com//6.6.2//EN
TZID:Asia/Kolkata
X-WR-TIMEZONE:Asia/Kolkata
BEGIN:VEVENT
UID:1258@map-india.org
DTSTART;TZID=Asia/Kolkata:20260509T110000
DTEND;TZID=Asia/Kolkata:20260509T114500
DTSTAMP:20260421T044714Z
URL:https://map-india.org/map-events/living-botanicals-3/
SUMMARY:Living Botanicals
DESCRIPTION:1111Join us for a guided walkthrough of the Living Botanicals i
 nstallation in the MAP’s Sculpture courtyard led by its grower Kush Seth
 i. Kush is a gardener and a forager from Delhi who has helped us create a 
 living and breathing space\, in collaboration with Architect Bhavana La No
 che. In May\, he returns to engage our audiences with gardening and walkth
 roughs of the plants in this installation.\n\nCome along to hear tales beh
 ind this garden’s inception\, behind-the-scenes and stories of plants fr
 om Hortus Malabaricus to Bangalore. Spend time in this living ecosystem ob
 serving plants from the lens of an explorer. We have also provided a field
  kit of assorted lenses which will allow you to zoom into the ecology of t
 his garden. Bring a diary to draw\, press things and take notes.
ATTACH;FMTTYPE=image/jpeg:https://map-india.org/wp-content/uploads/2026/04
 /Website-cover-images-new-2026-04-21T095542.683.png
END:VEVENT
BEGIN:VTIMEZONE
TZID:Asia/Kolkata
X-LIC-LOCATION:Asia/Kolkata
BEGIN:STANDARD
DTSTART:20250509T110000
TZOFFSETFROM:+0530
TZOFFSETTO:+0530
TZNAME:IST
END:STANDARD
END:VTIMEZONE
END:VCALENDAR