BEGIN:VCALENDAR
VERSION:2.0
PRODID:-//wp-events-plugin.com//6.6.2//EN
TZID:Asia/Kolkata
X-WR-TIMEZONE:Asia/Kolkata
BEGIN:VEVENT
UID:1078@map-india.org
DTSTART;TZID=Asia/Kolkata:20251109T170000
DTEND;TZID=Asia/Kolkata:20251109T183000
DTSTAMP:20251104T085354Z
URL:https://map-india.org/map-events/kedi/
SUMMARY:Kedi
DESCRIPTION:Thousands of street cats live in Istanbul\, the largest city in
  Türkiye\, as they have for centuries. Some are feral and fend for themse
 lves\, while others are tamer and are cared for by people. Join us for the
  film screening of the Turkish film\, Kedi which depicts these cats\, and 
 includes many interviews of the people who interact with them.\n\nThis pro
 gramme is in conjunction with the exhibition The Many Lives of the Cat
ATTACH;FMTTYPE=image/jpeg:https://map-india.org/wp-content/uploads/2025/11
 /Website-cover-images-new-33.png
END:VEVENT
BEGIN:VTIMEZONE
TZID:Asia/Kolkata
X-LIC-LOCATION:Asia/Kolkata
BEGIN:STANDARD
DTSTART:20241109T170000
TZOFFSETFROM:+0530
TZOFFSETTO:+0530
TZNAME:IST
END:STANDARD
END:VTIMEZONE
END:VCALENDAR