BEGIN:VCALENDAR
VERSION:2.0
PRODID:-//wp-events-plugin.com//6.6.2//EN
TZID:Asia/Kolkata
X-WR-TIMEZONE:Asia/Kolkata
BEGIN:VEVENT
UID:727@map-india.org
DTSTART;TZID=Asia/Kolkata:20250131T183000
DTEND;TZID=Asia/Kolkata:20250131T193000
DTSTAMP:20250127T120023Z
URL:https://map-india.org/map-events/in-light-of-grief/
SUMMARY:In Light of Grief
DESCRIPTION:How does one navigate absence\, while balancing remembrance wit
 h the possibility of moving forward and can collective grief change our ab
 ility to live in a world where something\, or someone\, does not exist?\n\
 nFor our first session of Readers' Bloc this year\, we’re exploring the 
 feeling of reaching for something that isn’t there – a feeling which c
 an often accompany grief.  We are reading two texts – The Year of Magic
 al Thinking by Joan Didion\, where she explores grief\, confusion and guil
 t after her husband’s death\; and The Other Side of Silence by Urvashi B
 utalia\, which is an account of personal narratives from during the partit
 ion that have departed from mainstream history.\n\nOn registration\, we wi
 ll send you the text and the topics/themes we will discuss.\n\nThis progra
 mme is exclusively for 18–25 year olds.\n\nReader’s Bloc is an online/
 IRL group of readers taking part in reading\, listening and sharing exerci
 ses around texts that help us learn more about ourselves\, the identities 
 we share and the communities we live in.\n\nThis session is conducted as p
 art of our engagements for the MAP Youth Collective. The MAP Youth Collect
 ive is a community for young people (18-25 year olds) to engage with the a
 rts and culture sector. The collective is for\, of and by young people —
  to explore our shared identities and interests through art.
ATTACH;FMTTYPE=image/jpeg:https://map-india.org/wp-content/uploads/2025/01
 /Website-cover-images-new-14.png
END:VEVENT
BEGIN:VTIMEZONE
TZID:Asia/Kolkata
X-LIC-LOCATION:Asia/Kolkata
BEGIN:STANDARD
DTSTART:20240201T183000
TZOFFSETFROM:+0530
TZOFFSETTO:+0530
TZNAME:IST
END:STANDARD
END:VTIMEZONE
END:VCALENDAR