BEGIN:VCALENDAR
VERSION:2.0
PRODID:-//wp-events-plugin.com//6.6.2//EN
TZID:Asia/Kolkata
X-WR-TIMEZONE:Asia/Kolkata
BEGIN:VEVENT
UID:210@map-india.org
DTSTART;TZID=Asia/Kolkata:20210819T180000
DTEND;TZID=Asia/Kolkata:20210819T190000
DTSTAMP:20230208T053518Z
URL:https://map-india.org/map-events/in-focus-a-history-of-studio-photogra
 phy/
SUMMARY:In Focus: A History of Studio Photography
DESCRIPTION:This World Photography Day\, discover exciting stories about th
 e history of studio photography in India with archivist Prachi Gupta.
ATTACH;FMTTYPE=image/jpeg:https://map-india.org/wp-content/uploads/2022/11
 /PHY.12296.jpg
END:VEVENT
BEGIN:VTIMEZONE
TZID:Asia/Kolkata
X-LIC-LOCATION:Asia/Kolkata
BEGIN:STANDARD
DTSTART:20200819T180000
TZOFFSETFROM:+0530
TZOFFSETTO:+0530
TZNAME:IST
END:STANDARD
END:VTIMEZONE
END:VCALENDAR