BEGIN:VCALENDAR
VERSION:2.0
PRODID:-//wp-events-plugin.com//6.6.2//EN
TZID:Asia/Kolkata
X-WR-TIMEZONE:Asia/Kolkata
BEGIN:VEVENT
UID:1260@map-india.org
DTSTART;TZID=Asia/Kolkata:20260502T110000
DTEND;TZID=Asia/Kolkata:20260502T130000
DTSTAMP:20260422T140824Z
URL:https://map-india.org/map-events/holding-space-feminist-reading-circle
 /
SUMMARY:Holding Space: Feminist Reading Circle
DESCRIPTION:What does vulnerability look like? What does care feel like?\nT
 hese are the questions that artist Afra Eisma leaves us with in warrior ga
 rments.\n\nJoin us for a three-part series of reflective feminist reading 
 sessions\, developed in collaboration with Zubaan and  facilitated by Lax
 mi Murthy. Together\, we will explore gender-based violence—its lived re
 alities\, and the possibilities of resistance\, solidarity\, and healing. 
 Through stories\, essays\, and personal reflections\, you are invited to e
 ngage with the exhibition at your own pace\, in a space that encourages li
 stening\, sharing\, and care.\n\nNote:\n\n-This is the first session in a 
 three-part series presented alongside Warrior Garments. Each session is se
 lf-contained\, but we encourage participants to attend all three.\n\n-The 
 upcoming sessions will take place on May 30 and June 21\, 2026.\n\n-Readin
 g materials for each will be shared after registration.\n\nTrigger Warning
 : The sessions may include discussions on sexual violence.
ATTACH;FMTTYPE=image/jpeg:https://map-india.org/wp-content/uploads/2026/04
 /Website-cover-images-new-2026-04-22T104009.698.png
END:VEVENT
BEGIN:VTIMEZONE
TZID:Asia/Kolkata
X-LIC-LOCATION:Asia/Kolkata
BEGIN:STANDARD
DTSTART:20250502T110000
TZOFFSETFROM:+0530
TZOFFSETTO:+0530
TZNAME:IST
END:STANDARD
END:VTIMEZONE
END:VCALENDAR