BEGIN:VCALENDAR
VERSION:2.0
PRODID:-//wp-events-plugin.com//6.6.2//EN
TZID:Asia/Kolkata
X-WR-TIMEZONE:Asia/Kolkata
BEGIN:VEVENT
UID:147@map-india.org
DTSTART;TZID=Asia/Kolkata:20220122T183000
DTEND;TZID=Asia/Kolkata:20220122T193000
DTSTAMP:20230208T010813Z
URL:https://map-india.org/map-events/himalayan-visual-culture-living-exper
 iences/
SUMMARY:Himalayan Visual Culture: Living Experiences
DESCRIPTION:Explore traditional art forms and contemporary expressions from
  the Himalayan region with Elena Pakhoutova.
ATTACH;FMTTYPE=image/jpeg:https://map-india.org/wp-content/uploads/2022/11
 /banner-1.png
END:VEVENT
BEGIN:VTIMEZONE
TZID:Asia/Kolkata
X-LIC-LOCATION:Asia/Kolkata
BEGIN:STANDARD
DTSTART:20210122T183000
TZOFFSETFROM:+0530
TZOFFSETTO:+0530
TZNAME:IST
END:STANDARD
END:VTIMEZONE
END:VCALENDAR