BEGIN:VCALENDAR
VERSION:2.0
PRODID:-//wp-events-plugin.com//6.6.2//EN
TZID:Asia/Kolkata
X-WR-TIMEZONE:Asia/Kolkata
BEGIN:VEVENT
UID:1225@map-india.org
DTSTART;TZID=Asia/Kolkata:20260328T150000
DTEND;TZID=Asia/Kolkata:20260328T170000
DTSTAMP:20260324T051258Z
URL:https://map-india.org/map-events/heritage-sites-of-karnataka-deccani-h
 istory/
SUMMARY:Heritage Sites of Karnataka & Deccani History
DESCRIPTION:Image Credits: Anoushka\nHow well do you know the history of th
 e Deccan?  Test your knowledge of Karnataka’s rich heritage through a s
 harp\, engaging quiz at MAP\, in collaboration with Ace of Pubs. Journey a
 cross historic sites\, architectural landmarks\, and cultural histories th
 at shape the region—one question at a time.
ATTACH;FMTTYPE=image/jpeg:https://map-india.org/wp-content/uploads/2026/03
 /WhatsApp-Image-2026-03-23-at-4.36.52-PM-1.jpeg
END:VEVENT
BEGIN:VTIMEZONE
TZID:Asia/Kolkata
X-LIC-LOCATION:Asia/Kolkata
BEGIN:STANDARD
DTSTART:20250328T150000
TZOFFSETFROM:+0530
TZOFFSETTO:+0530
TZNAME:IST
END:STANDARD
END:VTIMEZONE
END:VCALENDAR