BEGIN:VCALENDAR
VERSION:2.0
PRODID:-//wp-events-plugin.com//6.6.2//EN
TZID:Asia/Kolkata
X-WR-TIMEZONE:Asia/Kolkata
BEGIN:VEVENT
UID:1256@map-india.org
DTSTART;TZID=Asia/Kolkata:20260426T110000
DTEND;TZID=Asia/Kolkata:20260426T133000
DTSTAMP:20260416T084050Z
URL:https://map-india.org/map-events/herbarium-workshop/
SUMMARY:Herbarium Workshop
DESCRIPTION:Following the ethno-medicinal garden walk and visit to the univ
 ersity herbarium\, this programme extends into a herbarium workshop.\n\nHe
 re\, participants draw from their learnings from the repository and create
  their own portable herbariums to take home. Alongside learning traditiona
 l taxonomical principles for plant identification and nomenclature\, we ar
 chive these plants as living - through the names and ways we know to use t
 hem\, thereby building layered\, evolving understandings of  the plant wo
 rld. 
ATTACH;FMTTYPE=image/jpeg:https://map-india.org/wp-content/uploads/2026/04
 /Website-cover-images-new-2026-04-16T141037.201.png
END:VEVENT
BEGIN:VTIMEZONE
TZID:Asia/Kolkata
X-LIC-LOCATION:Asia/Kolkata
BEGIN:STANDARD
DTSTART:20250426T110000
TZOFFSETFROM:+0530
TZOFFSETTO:+0530
TZNAME:IST
END:STANDARD
END:VTIMEZONE
END:VCALENDAR