BEGIN:VCALENDAR
VERSION:2.0
PRODID:-//wp-events-plugin.com//6.6.2//EN
TZID:Asia/Kolkata
X-WR-TIMEZONE:Asia/Kolkata
BEGIN:VEVENT
UID:1179@map-india.org
DTSTART;TZID=Asia/Kolkata:20260221T130000
DTEND;TZID=Asia/Kolkata:20260221T160000
DTSTAMP:20260218T053722Z
URL:https://map-india.org/map-events/haunted-frames-veerana/
SUMMARY:Haunted Frames - Veerana
DESCRIPTION:Image credits: Bollywood Crypt\nJoin us for a screening of Veer
 ana (1988) by Shyam Ramsay and Tulsi Ramsay — the first film in a four-
 part horror series\, presented in collaboration with Bangalore Film Forum 
 and Bollywood Crypt\, this weekend at MAP.\n\nA beautiful young woman\, tr
 agically possessed since childhood by a vengeful spirit\, roams desolate s
 paces\, seducing and killing her victims\, as she is drawn deeper into a s
 hadowy world of revenge\, desire\, and doom.\n\nThe screening accompanies 
 a special display of film posters and promotional material from MAP’s Fi
 lm Ephemera Collection.\n\nThis event is part of MAP's Collection Programm
 ing.
ATTACH;FMTTYPE=image/jpeg:https://map-india.org/wp-content/uploads/2026/02
 /Website-cover-images-new-2026-02-16T144136.286.png
END:VEVENT
BEGIN:VTIMEZONE
TZID:Asia/Kolkata
X-LIC-LOCATION:Asia/Kolkata
BEGIN:STANDARD
DTSTART:20250221T130000
TZOFFSETFROM:+0530
TZOFFSETTO:+0530
TZNAME:IST
END:STANDARD
END:VTIMEZONE
END:VCALENDAR