BEGIN:VCALENDAR
VERSION:2.0
PRODID:-//wp-events-plugin.com//6.6.2//EN
TZID:Asia/Kolkata
X-WR-TIMEZONE:Asia/Kolkata
BEGIN:VEVENT
UID:1180@map-india.org
DTSTART;TZID=Asia/Kolkata:20260221T183000
DTEND;TZID=Asia/Kolkata:20260221T203000
DTSTAMP:20260218T052556Z
URL:https://map-india.org/map-events/haunted-frames-madhumati/
SUMMARY:Haunted Frames - Madhumati
DESCRIPTION:Join us for a screening of Madhumati (1958) by Bimal Roy — a 
 film in a four-part series\, presented in collaboration with Bangalore Fil
 m Forum\, this weekend at MAP.\n\nTwo men take shelter in a derelict mansi
 on situated in the countryside during a storm. One of the men suddenly bec
 omes aware that he once visited this mansion in a past life\; he recounts 
 a story about when he was Anand\, a painter\, who fell in love with a trib
 al girl named Madhumati.\n\nThe screening accompanies a special display of
  film posters from MAP’s Film Ephemera Collection.\n\nThis event is part
  of MAP's Collection Programming.
ATTACH;FMTTYPE=image/jpeg:https://map-india.org/wp-content/uploads/2026/02
 /Website-cover-images-new-2026-02-16T144807.135.png
END:VEVENT
BEGIN:VTIMEZONE
TZID:Asia/Kolkata
X-LIC-LOCATION:Asia/Kolkata
BEGIN:STANDARD
DTSTART:20250221T183000
TZOFFSETFROM:+0530
TZOFFSETTO:+0530
TZNAME:IST
END:STANDARD
END:VTIMEZONE
END:VCALENDAR