BEGIN:VCALENDAR
VERSION:2.0
PRODID:-//wp-events-plugin.com//6.6.2//EN
TZID:Asia/Kolkata
X-WR-TIMEZONE:Asia/Kolkata
BEGIN:VEVENT
UID:1182@map-india.org
DTSTART;TZID=Asia/Kolkata:20260222T183000
DTEND;TZID=Asia/Kolkata:20260222T203000
DTSTAMP:20260218T052639Z
URL:https://map-india.org/map-events/haunted-frames-frenzy/
SUMMARY:Haunted Frames - Frenzy
DESCRIPTION:Join us for a screening of Frenzy (1972) by Alfred Hitchcock—
  the final film in a four-part thriller series\, presented in collaboratio
 n with Bangalore Film Forum\, this weekend at MAP.\n\nLondon is terrorized
  by a vicious sex killer known as The Necktie Murderer. Following the brut
 al slaying of his ex-wife\, down-on-his-luck Richard Blaney is suspected b
 y the police of being the killer. He goes on the run\, determined to prove
  his innocence.\n\nThe screening accompanies a special display of film pos
 ters and promotional material from MAP’s Film Ephemera Collection.\n\nTh
 is event is part of MAP's Collection Programming.
ATTACH;FMTTYPE=image/jpeg:https://map-india.org/wp-content/uploads/2026/02
 /Website-cover-images-new-2026-02-16T150230.713.png
END:VEVENT
BEGIN:VTIMEZONE
TZID:Asia/Kolkata
X-LIC-LOCATION:Asia/Kolkata
BEGIN:STANDARD
DTSTART:20250222T183000
TZOFFSETFROM:+0530
TZOFFSETTO:+0530
TZNAME:IST
END:STANDARD
END:VTIMEZONE
END:VCALENDAR