BEGIN:VCALENDAR
VERSION:2.0
PRODID:-//wp-events-plugin.com//6.6.2//EN
TZID:Asia/Kolkata
X-WR-TIMEZONE:Asia/Kolkata
BEGIN:VEVENT
UID:1181@map-india.org
DTSTART;TZID=Asia/Kolkata:20260222T130000
DTEND;TZID=Asia/Kolkata:20260222T160000
DTSTAMP:20260218T053702Z
URL:https://map-india.org/map-events/haunted-frames-dracula/
SUMMARY:Haunted Frames - Dracula
DESCRIPTION:Join us for a screening of Dracula (1931) by Tod Browning— th
 e third film in a four-part horror series\, presented in collaboration wit
 h Bangalore Film Forum\, this weekend at MAP.\n\nA British estate agent tr
 avels to Transylvania to meet the mysterious Count Dracula\, who is intere
 sted in leasing a London castle. After Dracula enslaves the agent and driv
 es him to insanity\, the pair return to London together\, where Dracula\, 
 a secret bloodsucker\, begins preying on socialites.\n\nThe screening acco
 mpanies a special display of film posters and promotional material from MA
 P’s Film Ephemera Collection.\n\nThis event is part of MAP's Collection 
 Programming.
ATTACH;FMTTYPE=image/jpeg:https://map-india.org/wp-content/uploads/2026/02
 /Website-cover-images-new-2026-02-16T150745.204.png
END:VEVENT
BEGIN:VTIMEZONE
TZID:Asia/Kolkata
X-LIC-LOCATION:Asia/Kolkata
BEGIN:STANDARD
DTSTART:20250222T130000
TZOFFSETFROM:+0530
TZOFFSETTO:+0530
TZNAME:IST
END:STANDARD
END:VTIMEZONE
END:VCALENDAR