BEGIN:VCALENDAR
VERSION:2.0
PRODID:-//wp-events-plugin.com//6.6.2//EN
TZID:Asia/Kolkata
X-WR-TIMEZONE:Asia/Kolkata
BEGIN:VEVENT
UID:1040@map-india.org
DTSTART;TZID=Asia/Kolkata:20251012T140000
DTEND;TZID=Asia/Kolkata:20251012T160000
DTSTAMP:20251007T061733Z
URL:https://map-india.org/map-events/from-fable-to-folk/
SUMMARY:From Fable to Folk
DESCRIPTION:Explore a realm of cunning creatures\, heroic stories\, and fan
 tastical experiences! In this fun and creative workshop\, we’ll explore 
 Indian folk stories from the Panchatantra\, Jataka Tales\, Folktales from 
 India\, and more. \n\nWe will act\, dance\, imagine\, and even rewrite th
 em in addition to simply reading them! You'll transform classic stories in
 to brand-new productions by using role-playing\, theater activities\, and 
 imaginative storytelling. Prepare to think\, laugh\, and view these old ta
 les in a completely different light. Who knows what you'll discover?\n\nTh
 is event is part of the Family Day.
ATTACH;FMTTYPE=image/jpeg:https://map-india.org/wp-content/uploads/2025/09
 /PTG.0866-e1759139262758.jpg
END:VEVENT
BEGIN:VTIMEZONE
TZID:Asia/Kolkata
X-LIC-LOCATION:Asia/Kolkata
BEGIN:STANDARD
DTSTART:20241012T140000
TZOFFSETFROM:+0530
TZOFFSETTO:+0530
TZNAME:IST
END:STANDARD
END:VTIMEZONE
END:VCALENDAR